BEGIN:VCALENDAR
VERSION:2.0
PRODID:-//ChamberMaster//Event Calendar 2.0//EN
METHOD:PUBLISH
X-PUBLISHED-TTL:P3D
REFRESH-INTERVAL:P3D
CALSCALE:GREGORIAN
BEGIN:VEVENT
DTSTART:20181101T150000Z
DTEND:20181101T160000Z
X-MICROSOFT-CDO-ALLDAYEVENT:FALSE
SUMMARY:Urban Float Ribbon Cutting
DESCRIPTION:Please join us to celebrate the opening of Urban Float! Learn more about the benefits of floating and what Urban Float has to offer https://www.urbanfloat.com/.
X-ALT-DESC;FMTTYPE=text/html:Please join us to celebrate the opening of Urban Float! Learn more about the benefits of floating and what Urban Float has to offer https://www.urbanfloat.com/.
LOCATION:675 Worthington Road\, Westerville (newly opening outlot center near CycleBar and Clean Juice)
UID:e.1186.3081
SEQUENCE:3
DTSTAMP:20260421T101529Z
URL:https://business.westervillechamber.com/events/details/urban-float-ribbon-cutting-3081
END:VEVENT

END:VCALENDAR
