BEGIN:VCALENDAR
VERSION:2.0
PRODID:-//ChamberMaster//Event Calendar 2.0//EN
METHOD:PUBLISH
X-PUBLISHED-TTL:P3D
REFRESH-INTERVAL:P3D
CALSCALE:GREGORIAN
BEGIN:VEVENT
DTSTART:20220226T233000Z
DTEND:20220227T033000Z
X-MICROSOFT-CDO-ALLDAYEVENT:FALSE
SUMMARY:WesterBall
DESCRIPTION:We are thrilled to be presenting the best gala in Westerville- WesterBall 2022! We are expanding our annual gala to include the community. WesterBall will build excitement to start the fundraising process for a Westerville Cultural Arts Center. The event will identify passionate supporters of the arts\, garner more membership for the Arts Council\, and raise money for local arts and music programming. In addition\, it will be a dance party and concert to promote artists and organizations\, celebrate our diverse cultures\, and showcase the talent that exists in our city.
X-ALT-DESC;FMTTYPE=text/html:We are thrilled to be presenting the best gala in Westerville- WesterBall 2022! We are expanding our annual gala to include the community. WesterBall will build excitement to start the fundraising process for a Westerville Cultural Arts Center. The event will identify passionate supporters of the arts\, garner more membership for the Arts Council\, and raise money for local arts and music programming. In addition\, it will be a dance party and concert to promote artists and organizations\, celebrate our diverse cultures\, and showcase the talent that exists in our city.
LOCATION:The Point at Otterbein 60 Collegeview Rd Westerville\, OH 43081
UID:e.1186.5599
SEQUENCE:3
DTSTAMP:20260422T031946Z
URL:https://business.westervillechamber.com/events/details/westerball-5599
END:VEVENT

END:VCALENDAR
