BEGIN:VCALENDAR
VERSION:2.0
PRODID:-//ChamberMaster//Event Calendar 2.0//EN
METHOD:PUBLISH
X-PUBLISHED-TTL:P3D
REFRESH-INTERVAL:P3D
CALSCALE:GREGORIAN
BEGIN:VEVENT
DTSTART:20240721T160000Z
DTEND:20240721T220000Z
X-MICROSOFT-CDO-ALLDAYEVENT:FALSE
SUMMARY:WesterFlora Garden Tour
DESCRIPTION:WesterFlora Garden Tour\n\n\n\nSponsored by Westerville Garden Club\, Hoover Gardens\, Westerville Parks and Recreation Dept.\n\n\n\nSunday\, July 21\n\n12 p.m.   6 p.m.\n\n\n\nFree and open to the public.\n\n\n\nVarious homes in the Westerville\, Oh area will be showcasing their landscapes.\n\n\n\nTour maps will be available by July 6 at www.westerflora.net
X-ALT-DESC;FMTTYPE=text/html:WesterFlora Garden Tour<br />\n<br />\nSponsored by Westerville Garden Club\, Hoover Gardens\, Westerville Parks and Recreation Dept.<br />\n<br />\nSunday\, July 21<br />\n12 p.m. &ndash\; 6 p.m.<br />\n<br />\nFree and open to the public.<br />\n<br />\nVarious homes in the Westerville\, Oh area will be showcasing their landscapes.<br />\n<br />\nTour maps will be available by July 6 at <a href="http://www.westerflora.net">www.westerflora.net</a>
LOCATION:
UID:e.1186.12192
SEQUENCE:3
DTSTAMP:20260422T140839Z
URL:https://business.westervillechamber.com/events/details/westerflora-garden-tour-12192
END:VEVENT

END:VCALENDAR
