BEGIN:VCALENDAR
VERSION:2.0
PRODID:-//ChamberMaster//Event Calendar 2.0//EN
METHOD:PUBLISH
X-PUBLISHED-TTL:P3D
REFRESH-INTERVAL:P3D
CALSCALE:GREGORIAN
BEGIN:VEVENT
DTSTART;VALUE=DATE:20250629
DTEND;VALUE=DATE:20250630
TRANSP:TRANSPARENT
X-MICROSOFT-CDO-ALLDAYEVENT:TRUE
SUMMARY:Westerville Jazz Orchestra at Westerville's Freedom Celebration
DESCRIPTION:Westerville Jazz Orchestra will be the musical headliner at the Freedom Celebration on June 29 at Central College Presbyterian Church. This annual Independence Party will feature food trucks\, the WJO and a great fireworks display. Join several thousand friends and neighbors for this terrific patriotic holiday celebration. \n\n\n\nMore information: www.westervillejazz.com
X-ALT-DESC;FMTTYPE=text/html:Westerville Jazz Orchestra will be the musical headliner at the Freedom Celebration on June 29 at Central College Presbyterian Church. This annual Independence Party will feature food trucks\, the WJO and a great fireworks display. Join several thousand friends and neighbors for this terrific patriotic holiday celebration.&nbsp\;<br />\n<br />\nMore information: www.westervillejazz.com
LOCATION:
UID:e.1186.13711
SEQUENCE:3
DTSTAMP:20260419T194929Z
URL:https://business.westervillechamber.com/events/details/westerville-jazz-orchestra-at-westerville-s-freedom-celebration-13711
END:VEVENT

END:VCALENDAR
