BEGIN:VCALENDAR
VERSION:2.0
PRODID:-//ChamberMaster//Event Calendar 2.0//EN
METHOD:PUBLISH
X-PUBLISHED-TTL:P3D
REFRESH-INTERVAL:P3D
CALSCALE:GREGORIAN
BEGIN:VEVENT
DTSTART:20220117T123000Z
DTEND:20220117T143000Z
X-MICROSOFT-CDO-ALLDAYEVENT:FALSE
SUMMARY:Westerville MLK Celebration
DESCRIPTION:The Leadership Westerville MLK Legacy Project invites you to attend the 17th Annual Westerville Martin Luther King Jr. Celebration.\n\n\n\n\n\n\nAbout this event\n\n\n\nOur theme for 2022 is "Justice for All." Our 2022 breakfast celebration will be a hybrid event with both an in-person and virtual option. The event is Monday\, January 17\, 2022 beginning at 7:30 a.m.\n\nThe program will feature an esteemed panel including Christie Angel\, YWCA Columbus President & CEO\, Judge Jaiza N. Page\, and Alex Shanks\, Director of Community Prevention Initiatives for Equitas Health. The panel will be joined and moderated by Angela An\, 10TV News Anchor.\n\nA COVID-19 vaccination or negative test within 72 hours of the event is required to attend. Vaccination cards/test results will be checked at the door.\n\nThis event is subject to change due to COVID-19 guidelines and restrictions.
X-ALT-DESC;FMTTYPE=text/html:<div class="g-group l-lg-mar-bot-6 l-md-mar-bot-4  " style="margin: 0px 0px 30px\; padding: 0px\; font-size: 0px\; letter-spacing: 0px\; color: rgb(57\, 54\, 79)\; font-family: &quot\;Neue Plak&quot\;\, -apple-system\, BlinkMacSystemFont\, Roboto\, &quot\;Helvetica Neue&quot\;\, Helvetica\, Tahoma\, Arial\, sans-serif\;">\n<div class="g-cell g-cell-10-12 g-cell-md-1-1" style="margin: 0px\; padding: 0px 15px\; width: 560px\; box-sizing: border-box\; display: inline-block\; overflow: hidden\; vertical-align: top\; letter-spacing: 0.5px\; font-size: 0.933333rem\; line-height: 1.25rem\;">\n<div class="has-user-generated-content" style="margin: 0px\; padding: 0px\;">\n<div class="text-body-medium" data-automation="listing-event-description" style="margin: 0px\; padding: 0px\; font-size: 0.933333rem\; line-height: 1.25rem\;"><span style="font-weight: 700\; padding-top: 0px\;">The Leadership Westerville MLK Legacy Project invites you to attend the 17th Annual Westerville Martin Luther King Jr. Celebration.</span></div>\n</div>\n</div>\n</div>\n\n<div class="g-group l-mar-bot-6 l-sm-mar-bot-4" style="margin: 0px 0px 30px\; padding: 0px\; font-size: 0px\; letter-spacing: 0px\; color: rgb(57\, 54\, 79)\; font-family: &quot\;Neue Plak&quot\;\, -apple-system\, BlinkMacSystemFont\, Roboto\, &quot\;Helvetica Neue&quot\;\, Helvetica\, Tahoma\, Arial\, sans-serif\;">\n<div class="structured-content g-cell g-cell-10-12 g-cell-md-1-1" style="margin: 0px\; padding: 0px 15px\; width: 560px\; box-sizing: border-box\; display: inline-block\; overflow: hidden\; vertical-align: top\; letter-spacing: 0.5px\; font-size: 0.933333rem\; line-height: 1.25rem\;">\n<h2 class="text-body-large hide-small" style="margin: 0px -0.25px 0px 0px\; padding: 0px\; font-weight: 600\; font-size: 1.2rem\; line-height: 1.5rem\; letter-spacing: 0.25px\;">About this event</h2>\n\n<div class="has-user-generated-content" data-automation="about-this-event-sc" style="margin: 0px\; padding: 0px\;">\n<div class="structured-content-rich-text structured-content__module l-align-left l-mar-vert-6 l-sm-mar-vert-4 text-body-medium" style="margin: 30px 0px\; padding: 0px\; font-size: 0.933333rem\; line-height: 1.25rem\; text-rendering: optimizelegibility\;">\n<p style="margin: 0px\; padding: 0px\; color: rgb(111\, 114\, 135)\; font-size: 16px\; line-height: 1.5rem\;">Our theme for 2022 is &quot\;Justice for All.&quot\; Our 2022 breakfast celebration will be a hybrid event with both an in-person and virtual option. The event is Monday\, January 17\, 2022 beginning at 7:30 a.m.</p>\n\n<p style="margin: 0px\; padding: 10px 0px 0px\; color: rgb(111\, 114\, 135)\; font-size: 16px\; line-height: 1.5rem\;">The program will feature an esteemed panel including Christie Angel\, YWCA Columbus President &amp\; CEO\, Judge Jaiza N. Page\, and Alex Shanks\, Director of Community Prevention Initiatives for Equitas Health. The panel will be joined and moderated by Angela An\, 10TV News Anchor.</p>\n\n<p style="margin: 0px\; padding: 10px 0px 0px\; color: rgb(111\, 114\, 135)\; font-size: 16px\; line-height: 1.5rem\;">A COVID-19 vaccination or negative test within 72 hours of the event is required to attend. Vaccination cards/test results will be checked at the door.</p>\n\n<p style="margin: 0px\; padding: 10px 0px 0px\; color: rgb(111\, 114\, 135)\; font-size: 16px\; line-height: 1.5rem\;">This event is subject to change due to COVID-19 guidelines and restrictions.</p>\n</div>\n</div>\n</div>\n</div>\n
LOCATION:
UID:e.1186.5626
SEQUENCE:3
DTSTAMP:20260422T084531Z
URL:https://business.westervillechamber.com/events/details/westerville-mlk-celebration-5626
END:VEVENT

END:VCALENDAR
