BEGIN:VCALENDAR
VERSION:2.0
PRODID:-//ChamberMaster//Event Calendar 2.0//EN
METHOD:PUBLISH
X-PUBLISHED-TTL:P3D
REFRESH-INTERVAL:P3D
CALSCALE:GREGORIAN
BEGIN:VEVENT
DTSTART:20250927T130000Z
DTEND:20250927T160000Z
X-MICROSOFT-CDO-ALLDAYEVENT:FALSE
SUMMARY:Westerville Saturday Farmers Market
DESCRIPTION:Locally grown food\, farm products\, baked goods\, and a whole lot more\n\nJoin our community gathering to support and access locally grown food and farm products through a direct connection with farms\, nurseries and bakeries.\n\n\n\nWesterville Saturday Farmers Market brings Central Ohio grown food and farm products to the Westerville community from 9 a.m. to noon on Saturdays. For 2025\, the Market will take place rain or shine\, from May 17 through Sept. 27. \n\n\n\nIn 2025\, due to construction of the expansion of the Westerville municipal complex at 21-29 S. State St.\, the Market's home in the parking lots behind City Hall is not available. So\, the Market for 2025 will temporarily relocate to the parking lots of the COhatch/North High Brewing property at 240 S. State St.
X-ALT-DESC;FMTTYPE=text/html:Locally grown food\, farm products\, baked goods\, and a whole lot more<br />\nJoin our community gathering to support and access locally grown food and farm products through a direct connection with farms\, nurseries and bakeries.<br />\n<br />\nWesterville Saturday Farmers Market brings Central Ohio grown food and farm products to the Westerville community from 9 a.m. to noon on Saturdays. For 2025\, the Market will take place rain or shine\, from May 17 through Sept. 27.&nbsp\;<br />\n<br />\nIn 2025\, due to construction of the expansion of the Westerville municipal complex at 21-29 S. State St.\, the Market&rsquo\;s home in the parking lots behind City Hall is not available. So\, the Market for 2025 will temporarily relocate to the parking lots of the COhatch/North High Brewing property at 240 S. State St.
LOCATION:COhatch/North High Brewing Property 240 S. State St.
UID:e.1186.13617
SEQUENCE:3
DTSTAMP:20260419T134108Z
URL:https://business.westervillechamber.com/events/details/westerville-saturday-farmers-market-09-27-2025-13617
END:VEVENT

END:VCALENDAR
