BEGIN:VCALENDAR
VERSION:2.0
PRODID:-//ChamberMaster//Event Calendar 2.0//EN
METHOD:PUBLISH
X-PUBLISHED-TTL:P3D
REFRESH-INTERVAL:P3D
CALSCALE:GREGORIAN
BEGIN:VEVENT
DTSTART:20251025T200000Z
DTEND:20251025T220000Z
X-MICROSOFT-CDO-ALLDAYEVENT:FALSE
SUMMARY:Westerville Trunk or Treat w/ Jake from State Farm
DESCRIPTION:Our 6th annual Trunk or Treat hosted by Jake Breakey State Farm. \n\n\n\nCar Show Participants:\n\nParking will be limited so please make sure to arrive by 4pm! Please dress the part and have candy to pass out for the kids!\n\n \n\n\n\nTrunk or Treaters:\n\nPlease park in the lot across the street and enter near the State Farm registration table.\n\n \n\n\n\nPlease share with friends & family. We look forward to seeing you all!!!
X-ALT-DESC;FMTTYPE=text/html:<strong>Our 6th annual Trunk or Treat hosted by Jake Breakey State Farm.&nbsp\;</strong>\n<div>\n<div><br />\n<strong>Car Show Participants:</strong></div>\n\n<div>Parking will be limited so please make sure to arrive by 4pm! Please dress the part and have candy to pass out for the kids!<br />\n&nbsp\;</div>\n</div>\n\n<div>\n<div><strong>Trunk or Treaters:</strong></div>\n\n<div>Please park in the lot across the street and enter near the State Farm registration table.<br />\n&nbsp\;</div>\n</div>\n\n<div>\n<div>Please share with friends &amp\; family. We look forward to seeing you all!!!</div>\n</div>\n
LOCATION:5940 Chandler Ct Westerville\, Oh 43082
UID:e.1186.14025
SEQUENCE:3
DTSTAMP:20260422T221225Z
URL:https://business.westervillechamber.com/events/details/westerville-trunk-or-treat-w-jake-from-state-farm-14025
END:VEVENT

END:VCALENDAR
