BEGIN:VCALENDAR
VERSION:2.0
PRODID:-//ChamberMaster//Event Calendar 2.0//EN
METHOD:PUBLISH
X-PUBLISHED-TTL:P3D
REFRESH-INTERVAL:P3D
CALSCALE:GREGORIAN
BEGIN:VEVENT
DTSTART:20251025T213000Z
DTEND:20251026T023000Z
X-MICROSOFT-CDO-ALLDAYEVENT:FALSE
SUMMARY:Wicked Westerville: Second Annual Symphony Gala
DESCRIPTION:Ease on down the yellow brick road and into an evening of magic\, music\, and celebration.\n\n \n\nThis year\, the Westerville Symphony's annual gala becomes Wicked Westerville\, a dazzling Oz-themed experience filled with color\, character\, and symphonic sparkle. Whether you're dreaming of Kansas or ready to dance in the Emerald City\, this is your moment to click your heels\, dress to impress\, and celebrate the power of music in our community.\n\n \n\nGuests will enjoy cocktails\, dinner\, live performances\, and a themed afterparty straight out of the Ozdust Ballroom. Proceeds support the Symphony's mission to keep orchestral music vibrant\, accessible\, and alive in the heart of Westerville.
X-ALT-DESC;FMTTYPE=text/html:<h4 class="YbFtj oQuL8 ojz9r -vCWA" dir="auto" id="viewer-yjpur158" style="background: transparent\; border: 0px\; outline: 0px\; padding: 0px\; vertical-align: baseline\; text-align: initial\; -webkit-tap-highlight-color: rgba(0\, 0\, 0\, 0)\; font-variant-numeric: inherit\; font-variant-east-asian: inherit\; font-variant-alternates: inherit\; font-variant-position: inherit\; font-variant-emoji: inherit\; font-stretch: inherit\; font-size: 20px\; line-height: 1.5\; font-family: montserrat\, sans-serif\; font-optical-sizing: inherit\; font-size-adjust: inherit\; font-kerning: inherit\; font-feature-settings: inherit\; font-variation-settings: inherit\; color: rgb(52\, 52\, 52)\; min-height: auto\; box-sizing: inherit\; margin: 0px\; white-space-collapse: preserve\;"><span class="_0qvID" style="background: transparent\; border: 0px\; margin: 0px\; outline: 0px\; padding: 0px\; vertical-align: baseline\; text-align: initial\; -webkit-tap-highlight-color: rgba(0\, 0\, 0\, 0)\; display: block\; box-sizing: inherit\;"><span style="background: transparent\; border: 0px\; margin: 0px\; outline: 0px\; padding: 0px\; vertical-align: baseline\; -webkit-tap-highlight-color: rgba(0\, 0\, 0\, 0)\; box-sizing: inherit\; font-weight: 700\;">Ease on down the yellow brick road and into an evening of magic\, music\, and celebration.</span></span></h4>\n\n<div class="MzdCO Ki7IH ojz9r -vCWA" dir="auto" id="viewer-vuytx113" style="background: transparent\; border: 0px\; outline: 0px\; padding: 0px\; vertical-align: baseline\; text-align: initial\; color: rgb(52\, 52\, 52)\; font-family: montserrat\, sans-serif\; font-size: 16px\; line-height: 1.5\; min-height: auto\; -webkit-tap-highlight-color: rgba(0\, 0\, 0\, 0)\; margin: 0px\; box-sizing: inherit\; white-space-collapse: preserve\; margin-inline-start: 0px !important\;">&nbsp\;</div>\n\n<p class="MzdCO Ki7IH ojz9r -vCWA" dir="auto" id="viewer-eef23114" style="background: transparent\; border: 0px\; outline: 0px\; padding: 0px\; vertical-align: baseline\; text-align: initial\; color: rgb(52\, 52\, 52)\; font-family: montserrat\, sans-serif\; font-size: 16px\; line-height: 1.5\; min-height: auto\; -webkit-tap-highlight-color: rgba(0\, 0\, 0\, 0)\; margin: 0px\; box-sizing: inherit\; white-space-collapse: preserve\;"><span class="Ff5xF" style="background: transparent\; border: 0px\; margin: 0px\; outline: 0px\; padding: 0px\; vertical-align: baseline\; text-align: initial\; display: block\; -webkit-tap-highlight-color: rgba(0\, 0\, 0\, 0)\; box-sizing: inherit\;"><span style="background: rgba(0\, 0\, 0\, 0)\; border: 0px\; margin: 0px\; outline: 0px\; padding: 0px\; vertical-align: baseline\; -webkit-tap-highlight-color: rgba(0\, 0\, 0\, 0)\; box-sizing: inherit\;">This year\, the Westerville Symphony&rsquo\;s annual gala becomes Wicked Westerville\, a dazzling Oz-themed experience filled with color\, character\, and symphonic sparkle. Whether you&rsquo\;re dreaming of Kansas or ready to dance in the Emerald City\, this is your moment to click your heels\, dress to impress\, and celebrate the power of music in our community.</span></span></p>\n\n<div class="MzdCO Ki7IH ojz9r -vCWA" dir="auto" id="viewer-kxjj3116" style="background: transparent\; border: 0px\; outline: 0px\; padding: 0px\; vertical-align: baseline\; text-align: initial\; color: rgb(52\, 52\, 52)\; font-family: montserrat\, sans-serif\; font-size: 16px\; line-height: 1.5\; min-height: auto\; -webkit-tap-highlight-color: rgba(0\, 0\, 0\, 0)\; margin: 0px\; box-sizing: inherit\; white-space-collapse: preserve\; margin-inline-start: 0px !important\;">&nbsp\;</div>\n\n<p class="MzdCO Ki7IH ojz9r -vCWA" dir="auto" id="viewer-n0zy5117" style="background: transparent\; border: 0px\; outline: 0px\; padding: 0px\; vertical-align: baseline\; text-align: initial\; color: rgb(52\, 52\, 52)\; font-family: montserrat\, sans-serif\; font-size: 16px\; line-height: 1.5\; min-height: auto\; -webkit-tap-highlight-color: rgba(0\, 0\, 0\, 0)\; margin: 0px\; box-sizing: inherit\; white-space-collapse: preserve\;"><span class="Ff5xF" style="background: transparent\; border: 0px\; margin: 0px\; outline: 0px\; padding: 0px\; vertical-align: baseline\; text-align: initial\; display: block\; -webkit-tap-highlight-color: rgba(0\, 0\, 0\, 0)\; box-sizing: inherit\;"><span style="background: rgba(0\, 0\, 0\, 0)\; border: 0px\; margin: 0px\; outline: 0px\; padding: 0px\; vertical-align: baseline\; -webkit-tap-highlight-color: rgba(0\, 0\, 0\, 0)\; box-sizing: inherit\;">Guests will enjoy cocktails\, dinner\, live performances\, and a themed afterparty straight out of the Ozdust Ballroom. Proceeds support the Symphony&rsquo\;s mission to keep orchestral music vibrant\, accessible\, and alive in the heart of Westerville.</span></span></p>\n
LOCATION:The Lakes Golf & Country Club\, 6740 Worthington Rd\, Westerville\, OH 43082
UID:e.1186.13805
SEQUENCE:3
DTSTAMP:20260422T220954Z
URL:https://business.westervillechamber.com/events/details/wicked-westerville-second-annual-symphony-gala-13805
END:VEVENT

END:VCALENDAR
