BEGIN:VCALENDAR
VERSION:2.0
PRODID:-//ChamberMaster//Event Calendar 2.0//EN
METHOD:PUBLISH
X-PUBLISHED-TTL:P3D
REFRESH-INTERVAL:P3D
CALSCALE:GREGORIAN
BEGIN:VEVENT
DTSTART:20260807T213000Z
DTEND:20260808T003000Z
X-MICROSOFT-CDO-ALLDAYEVENT:FALSE
SUMMARY:Young Leaders Fifth Annual Cornhole Tournament
DESCRIPTION:5th Annual Cornhole Tournament\n\nHosted by the Westerville Area Chamber Young Leaders Network\n\n\n\nGet ready to bring your A-game to the 5th Annual Cornhole Tournament\, hosted by the Westerville Area Chamber Young Leaders Network!\n\nGather your team of two and join us for an evening of friendly competition\, networking\, and fun. Your $70 team entry includes:\n\n\n	\n	Entry into the double-elimination tournament\n	\n	\n	Appetizers to keep you fueled\n	\n	\n	One drink ticket per person (courtesy of Friendly Computers)\n	\n	\n	One raffle entry per person for great prizes\n	\n	\n	Access to a cash bar all night long\n	\n\n\nWhether you're a cornhole pro or just in it for the fun\, this event is a perfect way to connect with other young professionals and enjoy a summer evening with a little friendly rivalry.\n\nDon't miss your shot - spots fill up fast!\n\nGrab a partner and register your team today!
X-ALT-DESC;FMTTYPE=text/html:<div style="text-align: center\;">\n<p><span style="font-size:14px\;"><span style="font-family:tahoma\;"><strong>5th Annual Cornhole Tournament</strong><br />\n<strong>Hosted by the <em>Westerville Area Chamber Young Leaders Network</em></strong></span></span><br />\n<br />\n<span style="font-family: tahoma\; font-size: 14px\; text-align: justify\;">Get ready to&nbsp\;bring your A-game to the </span><strong style="font-family: tahoma\; font-size: 14px\; text-align: justify\;">5th Annual Cornhole Tournament</strong><span style="font-family: tahoma\; font-size: 14px\; text-align: justify\;">\, hosted by the </span><strong style="font-family: tahoma\; font-size: 14px\; text-align: justify\;">Westerville Area Chamber Young Leaders Network</strong><span style="font-family: tahoma\; font-size: 14px\; text-align: justify\;">!</span></p>\n\n<p style="text-align: justify\;"><span style="font-size:14px\;"><span style="font-family:tahoma\;">Gather your team of two and join us for an evening of friendly competition\, networking\, and fun. Your <strong>$70 team entry</strong> includes:</span></span></p>\n\n<ul>\n	<li>\n	<p style="text-align: justify\;"><span style="font-size:14px\;"><span style="font-family:tahoma\;">Entry into the double-elimination tournament</span></span></p>\n	</li>\n	<li>\n	<p style="text-align: justify\;"><span style="font-size:14px\;"><span style="font-family:tahoma\;"><strong>Appetizers</strong> to keep you fueled</span></span></p>\n	</li>\n	<li>\n	<p style="text-align: justify\;"><span style="font-size:14px\;"><span style="font-family:tahoma\;"><strong>One drink ticket per person&nbsp\;</strong>(courtesy of <strong>Friendly Computers</strong>)</span></span></p>\n	</li>\n	<li>\n	<p style="text-align: justify\;"><span style="font-size:14px\;"><span style="font-family:tahoma\;"><strong>One raffle entry per person</strong> for great prizes</span></span></p>\n	</li>\n	<li>\n	<p style="text-align: justify\;"><span style="font-size:14px\;"><span style="font-family:tahoma\;">Access to a <strong>cash bar</strong> all night long</span></span></p>\n	</li>\n</ul>\n\n<p style="text-align: justify\;"><span style="font-size:14px\;"><span style="font-family:tahoma\;">Whether you&#39\;re a cornhole pro or just in it for the fun\, this event is a perfect way to connect with other young professionals and enjoy a summer evening with a little friendly rivalry.</span></span></p>\n\n<p><span style="font-size:14px\;"><span style="font-family:tahoma\;"><strong>Don&rsquo\;t miss your shot - spots fill up fast!</strong><br />\nGrab a partner and register your team today!</span></span></p>\n</div>\n
LOCATION:Rude Dog Bar & Grill Polaris 8711 Sancus Blvd Columbus\, OH 43240
UID:e.1186.14106
SEQUENCE:3
DTSTAMP:20260419T230719Z
URL:https://business.westervillechamber.com/events/details/young-leaders-fifth-annual-cornhole-tournament-14106
END:VEVENT

END:VCALENDAR
