BEGIN:VCALENDAR
VERSION:2.0
PRODID:-//ChamberMaster//Event Calendar 2.0//EN
METHOD:PUBLISH
X-PUBLISHED-TTL:P3D
REFRESH-INTERVAL:P3D
CALSCALE:GREGORIAN
BEGIN:VEVENT
DTSTART;VALUE=DATE:20251214
DTEND;VALUE=DATE:20251215
TRANSP:TRANSPARENT
X-MICROSOFT-CDO-ALLDAYEVENT:TRUE
SUMMARY:Youth Christmas Program at Grace Evangelical Lutheran Church on Dec. 14 at 11 AM. ‘Santa and the True Meaning of Christmas’
DESCRIPTION:You're Invited to the Youth Christmas Program!\n\nSunday\, December 14   During the 11:00 AM Service\n\nGrace Evangelical Lutheran Church\, 100 E. Schrock Rd.\, Westerville\, OH 43081\n\nJoin us for this year's joyful Youth Christmas Program:\n\n"Santa and the True Meaning of Christmas"\n\nWritten by Pr. David Wendel\n\nIn this heartwarming story\, Santa's overworked elves have lost their joy in the hustle and bustle of holiday preparations. To help them remember what Christmas is really about\, Santa leads them on a journey from the rushed\, noisy streets of the modern world  to the quiet of a church  and finally to Bethlehem on the very first Christmas night.\n\nAt the manger\, they discover what we all need to remember:\n\nChristmas isn't about deadlines\, decorations\, or gifts \n\nit's about God's greatest gift: Jesus Christ.\n\nBring your family and friends for a morning filled with faith\, laughter\, and the wonder of the season.\n\nAll are welcome!
X-ALT-DESC;FMTTYPE=text/html:<h3><strong>You&rsquo\;re Invited to the Youth Christmas Program!</strong></h3>\n\n<p><strong>Sunday\, December 14 &bull\; During the 11:00 AM Service</strong><br />\n<strong>Grace Evangelical Lutheran Church\, 100 E. Schrock Rd.\, Westerville\, OH 43081</strong></p>\n\n<p>Join us for this year&rsquo\;s joyful Youth Christmas Program:<br />\n<strong>&ldquo\;Santa and the True Meaning of Christmas&rdquo\;</strong><br />\nWritten by <strong>Pr. David Wendel</strong></p>\n\n<p>In this heartwarming story\, Santa&rsquo\;s overworked elves have lost their joy in the hustle and bustle of holiday preparations. To help them remember what Christmas is really about\, Santa leads them on a journey&mdash\;from the rushed\, noisy streets of the modern world&hellip\; to the quiet of a church&hellip\; and finally to Bethlehem on the very first Christmas night.</p>\n\n<p>At the manger\, they discover what we all need to remember:<br />\nChristmas isn&rsquo\;t about deadlines\, decorations\, or gifts&mdash\;<br />\n<strong>it&rsquo\;s about God&rsquo\;s greatest gift: Jesus Christ.</strong></p>\n\n<p>Bring your family and friends for a morning filled with faith\, laughter\, and the wonder of the season.<br />\n<strong>All are welcome!</strong></p>\n
LOCATION:Grace Evangelical Lutheran Church\, 100 E. Schrock Rd.\, Westerville\, OH 43081
UID:e.1186.14059
SEQUENCE:3
DTSTAMP:20260423T004908Z
URL:https://business.westervillechamber.com/events/details/youth-christmas-program-at-grace-evangelical-lutheran-church-on-dec-14-at-11-am-santa-and-the-true-meaning-of-christmas-14059
END:VEVENT

END:VCALENDAR
