BEGIN:VCALENDAR
VERSION:2.0
PRODID:-//ChamberMaster//Event Calendar 2.0//EN
METHOD:PUBLISH
X-PUBLISHED-TTL:P3D
REFRESH-INTERVAL:P3D
CALSCALE:GREGORIAN
BEGIN:VEVENT
DTSTART:20240714T120000Z
DTEND:20240714T143000Z
X-MICROSOFT-CDO-ALLDAYEVENT:FALSE
SUMMARY:Zoom Duck Derby Presented by Medical Mutual
DESCRIPTION:Join The Alpha Group for our 8th annual Zoom Duck Derby presented by Medical Mutual!\n\n \n\nOn Sunday\, July 14 we will dump 6\,000 rubber ducks into the lazy river at Zoombezi Bay to raise money for people with disabilities in Central Ohio and beyond. The first three ducks to swim across the finish line WIN CASH UP TO $1\,500!\n\n \n\nHow to Participate:\n\n\n	Buy a derby duck for $5. Or buy a package and get some free ducks!\n	Ultimate Waddles Pass: $30 or a Duckling Pass $20\n	\n		1 Duck Derby entry\n		All day entry into Zoombezi Bay and The Columbus Zoo & Aquarium\n		Free Parking\n		Kids' Zone with games and small prizes\n		Goodie Bag\n		Enjoy 90-minutes in the wave pool and select water attractions before the park opens to the public.\n	\n	\n\n\n*You don't have to be present to win   buy why miss the fun? \n\n\n\nCLICK HERE TO BUY YOUR DUCKS OR WADDLES PASS.\n\n \n\n*Kids ages 3 and under are FREE.\n\n\n\nQuestions? Contact chelsieholmes@alphagroup.net\n\n \n\nBE A CHAMPION FOR disABILITIES!
X-ALT-DESC;FMTTYPE=text/html:<div><strong>Join The Alpha Group for our 8th annual Zoom Duck Derby presented by Medical Mutual!</strong></div>\n\n<div>&nbsp\;</div>\n\n<div><strong>On Sunday\, July 14 we will dump 6\,000 rubber ducks into the lazy river at Zoombezi Bay to raise money for people with disabilities in Central Ohio and beyond. The first three ducks to swim across the finish line WIN CASH UP TO $1\,500!</strong></div>\n\n<div>&nbsp\;</div>\n\n<div>How to Participate:</div>\n\n<ul>\n	<li>Buy a derby duck for $5.&nbsp\;<em>Or buy a package and get some free ducks!</em></li>\n	<li>Ultimate Waddles Pass: $30 or a Duckling Pass $20\n	<ul>\n		<li>1 Duck Derby entry</li>\n		<li>All day entry into Zoombezi Bay and The Columbus Zoo &amp\; Aquarium</li>\n		<li>Free Parking</li>\n		<li>Kids&#39\; Zone with games and small prizes</li>\n		<li>Goodie Bag</li>\n		<li>Enjoy 90-minutes in the wave pool and select water attractions before the park opens to the public.</li>\n	</ul>\n	</li>\n</ul>\n\n<div>*You don&rsquo\;t have to be present to win &ndash\; buy why miss the fun?&nbsp\;<br />\n<br />\n<strong><a href="https://www.duckrace.com/delaware">CLICK HERE TO BUY YOUR DUCKS OR WADDLES PASS.</a></strong></div>\n\n<div>&nbsp\;</div>\n\n<div>*Kids ages 3 and under are FREE.<br />\n<br />\nQuestions? Contact&nbsp\;<a href="mailto:chelsieholmes@alphagroup.net" style="box-sizing: border-box\; background-color: transparent\; text-decoration-line: none\; color: var(--ast-global-color-6)\; transition: all 0.2s linear 0s\; box-shadow: none\;">chelsieholmes@alphagroup.net</a></div>\n\n<div>&nbsp\;</div>\n\n<div><strong>BE A CHAMPION FOR</strong>&nbsp\;dis<strong>ABILITIES!</strong></div>\n
LOCATION:Zoombezi Bay 4850 Powell Rd\, Powell\, OH 43065
UID:e.1186.12196
SEQUENCE:3
DTSTAMP:20260422T141011Z
URL:https://business.westervillechamber.com/events/details/zoom-duck-derby-presented-by-medical-mutual-07-14-2024-12196
END:VEVENT

END:VCALENDAR
